BEGIN:VCALENDAR
VERSION:2.0
PRODID:icalendar-ruby
CALSCALE:GREGORIAN
METHOD:PUBLISH
BEGIN:VEVENT
DTSTAMP:20260421T202447Z
UID:33-1823791@lord-of-life.org
DTSTART:20251021T000000Z
DTEND:20251021T020000Z
CLASS:PUBLIC
CREATED:20260421T143011
DESCRIPTION:Annex at 119 West Wise Road\,\nSchaumburg\, IL 60193
LAST-MODIFIED:20260421T143011
LOCATION:Annex
SUMMARY:A.A.
URL;VALUE=URI:https://www.lord-of-life.org/events/a-a--33/2025-10-20
ATTACH;FILENAME=AA_logo.jpg;FMTTYPE=image/jpeg:https://dq5pwpg1q8ru0.cloudf
 ront.net/2023/10/07/07/37/45/fb9a6baa-a06a-4ea7-b64e-59703a0e8216/AA_logo.
 jpg
END:VEVENT
END:VCALENDAR
