BEGIN:VCALENDAR
VERSION:2.0
PRODID:icalendar-ruby
CALSCALE:GREGORIAN
METHOD:PUBLISH
BEGIN:VEVENT
DTSTAMP:20260421T084704Z
UID:89-1673940@lord-of-life.org
DTSTART:20260326T000000Z
DTEND:20260326T010000Z
CLASS:PUBLIC
CREATED:20260401T090813
DESCRIPTION:
LAST-MODIFIED:20260401T090813
LOCATION:Lord of Life Lutheran Church
SUMMARY:Lenten Evening Prayer Service
URL;VALUE=URI:https://www.lord-of-life.org/events/lenten-evening-prayer-ser
 vice/2026-03-25
ATTACH;FILENAME=cross_above_altarT.jpg;FMTTYPE=image/jpeg:https://dq5pwpg1q
 8ru0.cloudfront.net/2025/03/02/20/11/16/b9c569c9-fffc-42b7-8799-bba359c8a9
 bb/cross_above_altarT.jpg
END:VEVENT
END:VCALENDAR
