BEGIN:VCALENDAR
VERSION:2.0
PRODID:icalendar-ruby
CALSCALE:GREGORIAN
METHOD:PUBLISH
BEGIN:VEVENT
DTSTAMP:20260421T121053Z
UID:8-1819432@lord-of-life.org
DTSTART:20260723T140000Z
DTEND:20260723T170000Z
CLASS:PUBLIC
CREATED:20260421T063837
DESCRIPTION:Lord of Life Lutheran Church\, \n119 West Wise Road\, \nSchaum
 burg\, IL 60193
LAST-MODIFIED:20260421T063837
LOCATION:Church basement
SUMMARY:Quilters
URL;VALUE=URI:https://www.lord-of-life.org/events/quilters/2026-07-23
ATTACH;FILENAME=quiltT.jpg;FMTTYPE=image/jpeg:https://dq5pwpg1q8ru0.cloudfr
 ont.net/2023/08/28/13/23/59/08894f27-3dde-4d0f-b86e-bbc34e0f663e/quiltT.jp
 g
END:VEVENT
END:VCALENDAR
